BEGIN:VCALENDAR
VERSION:2.0
PRODID:icalendar-ruby
CALSCALE:GREGORIAN
METHOD:PUBLISH
BEGIN:VEVENT
DTSTAMP:20260423T163030Z
UID:44-1385980@freshwindintl.org
DTSTART:20260625T210000Z
DTEND:20260627T210000Z
CLASS:PUBLIC
CREATED:20260422T172800
DESCRIPTION:A Fresh Wind Getaway \nThe Coburns invite you to join them in 
 one of their favorite places for an intimate couples refresher designed to
  strengthen connection\, restore alignment\, and create space for meaningf
 ul reflection. Nestled in the Colorado mountains\, this refresher offers i
 ntentional sessions\, shared meals\, and time away from daily demands all 
 in an atmosphere of peace\, care\, and renewal.\n\n \n \nWHATS INCLUDED\
 n\n\nTwo-night hotel stay - booked separately with hotel\nSpringHill Suite
 s by Marriott\, Avon\, Vail Valley\n\n\nFull hot breakfast each morning\n\
 n\nAll retreat sessions &amp\; materials\n\n\nMeals &amp\; Snacks\n\n\nWel
 come gift including a couple's cuddle blanket for the mountain air\n\n\nAn
  intentionally small group experience - and networking with other couples\
 n\n\nTime for you and your mate to rediscover each other again\n\n\n\nINVE
 STMENT\n$250 per couple - \nLodging is $179/night (2 nights) - booked sep
 arately (link available 1/31)\nPay in full or $100 Deposit by April 15\; m
 onthly payments until done.\n\nThe church is underwriting the meeting spac
 e to keep this retreat intimate and accessible.\n\n\nREGISTRATION\nSpace i
 s limited to preserve an intimate experience - No more than 12 couples\nRe
 gistration closes: May 29\, 2026 or when full.\n \n\nBecause strong marri
 ages matter.
LAST-MODIFIED:20260422T172800
LOCATION:Vail/Avon Area
SUMMARY:Make it Last Forever!
URL;VALUE=URI:https://www.freshwindintl.org/events/make-it-last-forever--44
 /2026-06-25
ATTACH;FILENAME=621205206_1195664122675536_8124737919926503612_n.jpg;FMTTYP
 E=image/jpeg:https://dq5pwpg1q8ru0.cloudfront.net/2026/04/22/23/28/00/fe59
 a1e4-9306-4159-9833-e51d2ac917b4/621205206_1195664122675536_81247379199265
 03612_n.jpg
END:VEVENT
END:VCALENDAR
