BEGIN:VCALENDAR
VERSION:2.0
PRODID:icalendar-ruby
CALSCALE:GREGORIAN
METHOD:PUBLISH
BEGIN:VEVENT
DTSTAMP:20260421T123554Z
UID:42-1377313@freshwindintl.org
DTSTART:20260502T193000Z
DTEND:20260504T053000Z
CLASS:PUBLIC
CREATED:20260420T162526
DESCRIPTION:Join us for a time of fellowship and celebration for 7 years of
  life and Kingdom impact. God has been more than good to Fresh Wind and we
  want to pause and give a huge thanks to Him and to all of our family who 
 made these years so amazing.  As always\, we have a fun day planned on Sa
 turday May 2 and an in Person service on Sunday May 3 with Prophet Ramona 
 Brown as our guest Psalmist and Minister Betty Rice as our Word Bearer.  
 You do not want to miss.  Invite a friend and let's celebrate!\nLunch is 
 $60 (menu below).  And be ready for the fun and games lined up!  Can't w
 ait to see you there.  To register\, click "Count Me In!"\nCash - $fwintl
  on Cashapp or Venmo\nCredit Card and PayPal\nMenu includes: (buffet style
 )\nFreshly Baked Bread\, Regular and Decaffeinated Coffee\, Hot Tea\, Iced
  Tea and Assorted Sodas\nParmesan Stuffed Mushrooms\nZucchini Fritte\nItal
 ian Chopped Salad\nBeef Tenderloin Medallions\nChicken Marsala\nBlackened 
 Salmon with Crispy Calabrian Shrimp\nBaked Truffle Mac &amp\; Cheese\nRoas
 ted Garlic Broccoli\nGigi's Butter Cake\nChocolate Layered Cake\nSunday Wo
 rship -ABSOLUTELY FREE!  Come Celebrate with Us
LAST-MODIFIED:20260420T162526
LOCATION:Maggiano's Little Italy & Fresh Wind International
SUMMARY:7th Year Anniversary 
URL;VALUE=URI:https://www.freshwindintl.org/events/7th-year-anniversary/202
 6-05-02
ATTACH;FILENAME=7th year Apostolic Fulfillment1.jpg;FMTTYPE=image/jpeg:http
 s://dq5pwpg1q8ru0.cloudfront.net/2026/04/20/14/11/38/21a3c6fd-ea51-4b64-8f
 49-60aee9bc50d6/7th%20year%20Apostolic%20Fulfillment1.jpg
END:VEVENT
END:VCALENDAR
