BEGIN:VCALENDAR
VERSION:2.0
PRODID:icalendar-ruby
CALSCALE:GREGORIAN
METHOD:PUBLISH
BEGIN:VEVENT
DTSTAMP:20260423T145228Z
UID:43-1385978@freshwindintl.org
DTSTART:20260502T193000Z
DTEND:20260502T213000Z
CLASS:PUBLIC
CREATED:20260422T172615
DESCRIPTION:Join us for a time of fellowship and celebration for 7 years of
  life and Kingdom impact.  Lunch is $60 (menu below).  Come ready for th
 e fun and games lined up!  Can't wait to see you there.\n \nCash - $fwin
 tl on Cashapp or Venmo\nCredit Card and PayPal\n \nMenu includes: (buffet
 )\nFreshly Baked Bread\, Regular and Decaffeinated Coffee\, Hot Tea\, Iced
  Tea and Assorted Sodas\nParmesean Stuffed Mushrooms\nZucchinit Fritte\nIt
 alian Chopped Salad\nBeef Tenderloin Medallions\nChicken Marsala\nBlackene
 d Salmon with Crispy Calabrian Shrimp\nBaked Truffle Mac &amp\; Cheese\nRo
 asted Garlic Broccoli\nGigi's Butter Cake\nChocolate Layered Cake
LAST-MODIFIED:20260422T172615
LOCATION:Maggiano's Little Italy\, Englewood
SUMMARY:7th Year Anniversary Luncheon
URL;VALUE=URI:https://www.freshwindintl.org/events/7th-year-anniversary-lun
 cheon--43/2026-05-02
END:VEVENT
END:VCALENDAR
